BEGIN:VCALENDAR
VERSION:2.0
PRODID:-//KTN 코리아 타운 뉴스 - ECPv6.15.20//NONSGML v1.0//EN
CALSCALE:GREGORIAN
METHOD:PUBLISH
X-ORIGINAL-URL:https://koreatownnews.com
X-WR-CALDESC:KTN 코리아 타운 뉴스 이벤트
REFRESH-INTERVAL;VALUE=DURATION:PT1H
X-Robots-Tag:noindex
X-PUBLISHED-TTL:PT1H
BEGIN:VTIMEZONE
TZID:America/Chicago
BEGIN:DAYLIGHT
TZOFFSETFROM:-0600
TZOFFSETTO:-0500
TZNAME:CDT
DTSTART:20250309T080000
END:DAYLIGHT
BEGIN:STANDARD
TZOFFSETFROM:-0500
TZOFFSETTO:-0600
TZNAME:CST
DTSTART:20251102T070000
END:STANDARD
BEGIN:DAYLIGHT
TZOFFSETFROM:-0600
TZOFFSETTO:-0500
TZNAME:CDT
DTSTART:20260308T080000
END:DAYLIGHT
BEGIN:STANDARD
TZOFFSETFROM:-0500
TZOFFSETTO:-0600
TZNAME:CST
DTSTART:20261101T070000
END:STANDARD
BEGIN:DAYLIGHT
TZOFFSETFROM:-0600
TZOFFSETTO:-0500
TZNAME:CDT
DTSTART:20270314T080000
END:DAYLIGHT
BEGIN:STANDARD
TZOFFSETFROM:-0500
TZOFFSETTO:-0600
TZNAME:CST
DTSTART:20271107T070000
END:STANDARD
END:VTIMEZONE
BEGIN:VEVENT
DTSTART;TZID=America/Chicago:20260411T080000
DTEND;TZID=America/Chicago:20260425T170000
DTSTAMP:20260421T093002
CREATED:20260408T221223Z
LAST-MODIFIED:20260408T221223Z
UID:24914-1775894400-1777136400@koreatownnews.com
SUMMARY:H-MART K-FUN WEEKENDS
DESCRIPTION:H-MART K-FUN WEEKENDS \n일시 : 4월11일(토)  오후 1:00 ~ 오후3:00 \n        4월18일(토)  오후 1:00 ~ 오후3:00 \n        4월25일(토)  오후 1:00 ~ 오후3:00 \n장소: H-MART Dallas Harry Hines
URL:https://koreatownnews.com/event/h-mart-k-fun-weekends-4/
END:VEVENT
END:VCALENDAR