BEGIN:VCALENDAR
VERSION:2.0
PRODID:-//KTN 코리아 타운 뉴스 - ECPv6.15.20//NONSGML v1.0//EN
CALSCALE:GREGORIAN
METHOD:PUBLISH
X-WR-CALNAME:KTN 코리아 타운 뉴스
X-ORIGINAL-URL:https://koreatownnews.com
X-WR-CALDESC:KTN 코리아 타운 뉴스 이벤트
REFRESH-INTERVAL;VALUE=DURATION:PT1H
X-Robots-Tag:noindex
X-PUBLISHED-TTL:PT1H
BEGIN:VTIMEZONE
TZID:America/Chicago
BEGIN:DAYLIGHT
TZOFFSETFROM:-0600
TZOFFSETTO:-0500
TZNAME:CDT
DTSTART:20250309T080000
END:DAYLIGHT
BEGIN:STANDARD
TZOFFSETFROM:-0500
TZOFFSETTO:-0600
TZNAME:CST
DTSTART:20251102T070000
END:STANDARD
BEGIN:DAYLIGHT
TZOFFSETFROM:-0600
TZOFFSETTO:-0500
TZNAME:CDT
DTSTART:20260308T080000
END:DAYLIGHT
BEGIN:STANDARD
TZOFFSETFROM:-0500
TZOFFSETTO:-0600
TZNAME:CST
DTSTART:20261101T070000
END:STANDARD
BEGIN:DAYLIGHT
TZOFFSETFROM:-0600
TZOFFSETTO:-0500
TZNAME:CDT
DTSTART:20270314T080000
END:DAYLIGHT
BEGIN:STANDARD
TZOFFSETFROM:-0500
TZOFFSETTO:-0600
TZNAME:CST
DTSTART:20271107T070000
END:STANDARD
END:VTIMEZONE
BEGIN:VEVENT
DTSTART;TZID=America/Chicago:20260326T080000
DTEND;TZID=America/Chicago:20260419T170000
DTSTAMP:20260421T092755
CREATED:20260326T230740Z
LAST-MODIFIED:20260326T230751Z
UID:24536-1774512000-1776618000@koreatownnews.com
SUMMARY:더 나눔 ‘장애인 장학금’
DESCRIPTION:더 나눔 ‘장애인 장학금’ \n  \n대 상 : 장애학생 \n  \n신청 기간: 4월 19일(일) 까지 \n  \n신 청: dkfoundationtx.org에서 신청서를 다운받아 우편 ( P.O Box 59975 Dallas\, TX 75229) 혹은 이메일 ( info@ dkfoundationtx.org) 로 접수 \n  \n문 의: 972-620-6296
URL:https://koreatownnews.com/event/%eb%8d%94-%eb%82%98%eb%88%94-%ec%9e%a5%ec%95%a0%ec%9d%b8-%ec%9e%a5%ed%95%99%ea%b8%88/
END:VEVENT
BEGIN:VEVENT
DTSTART;TZID=America/Chicago:20260406T013000
DTEND;TZID=America/Chicago:20260406T180000
DTSTAMP:20260421T092755
CREATED:20260322T034049Z
LAST-MODIFIED:20260322T034049Z
UID:24479-1775439000-1775498400@koreatownnews.com
SUMMARY:세미한 선교후원 골프대회
DESCRIPTION:세미한 선교후원 골프대회 \n일시: 4월 6일(월) 오후 1:30 \n장소: Coyote Ridge Golf Club \n문의: 214-238-0292
URL:https://koreatownnews.com/event/%ec%84%b8%eb%af%b8%ed%95%9c-%ec%84%a0%ea%b5%90%ed%9b%84%ec%9b%90-%ea%b3%a8%ed%94%84%eb%8c%80%ed%9a%8c/
END:VEVENT
BEGIN:VEVENT
DTSTART;TZID=America/Chicago:20260406T080000
DTEND;TZID=America/Chicago:20260406T170000
DTSTAMP:20260421T092755
CREATED:20260408T221404Z
LAST-MODIFIED:20260408T221404Z
UID:24918-1775462400-1775494800@koreatownnews.com
SUMMARY:더 나눔 ‘장애인 장학금’
DESCRIPTION:더 나눔 ‘장애인 장학금’ \n  \n대 상 : 장애학생 \n신청 기간: 4월 19일(일) 까지 \n신 청: dkfoundationtx.org에서 신청서를 다운받아 우편 ( P.O Box 59975 Dallas\, TX 75229) 혹은 이메일 ( info@ dkfoundationtx.org) 로 접수 \n문 의: 972-620-6296
URL:https://koreatownnews.com/event/%eb%8d%94-%eb%82%98%eb%88%94-%ec%9e%a5%ec%95%a0%ec%9d%b8-%ec%9e%a5%ed%95%99%ea%b8%88-2/
END:VEVENT
END:VCALENDAR