BEGIN:VCALENDAR
VERSION:2.0
PRODID:-//KTN 코리아 타운 뉴스 - ECPv6.15.20//NONSGML v1.0//EN
CALSCALE:GREGORIAN
METHOD:PUBLISH
X-ORIGINAL-URL:https://koreatownnews.com
X-WR-CALDESC:KTN 코리아 타운 뉴스 이벤트
REFRESH-INTERVAL;VALUE=DURATION:PT1H
X-Robots-Tag:noindex
X-PUBLISHED-TTL:PT1H
BEGIN:VTIMEZONE
TZID:America/Chicago
BEGIN:DAYLIGHT
TZOFFSETFROM:-0600
TZOFFSETTO:-0500
TZNAME:CDT
DTSTART:20250309T080000
END:DAYLIGHT
BEGIN:STANDARD
TZOFFSETFROM:-0500
TZOFFSETTO:-0600
TZNAME:CST
DTSTART:20251102T070000
END:STANDARD
BEGIN:DAYLIGHT
TZOFFSETFROM:-0600
TZOFFSETTO:-0500
TZNAME:CDT
DTSTART:20260308T080000
END:DAYLIGHT
BEGIN:STANDARD
TZOFFSETFROM:-0500
TZOFFSETTO:-0600
TZNAME:CST
DTSTART:20261101T070000
END:STANDARD
BEGIN:DAYLIGHT
TZOFFSETFROM:-0600
TZOFFSETTO:-0500
TZNAME:CDT
DTSTART:20270314T080000
END:DAYLIGHT
BEGIN:STANDARD
TZOFFSETFROM:-0500
TZOFFSETTO:-0600
TZNAME:CST
DTSTART:20271107T070000
END:STANDARD
END:VTIMEZONE
BEGIN:VEVENT
DTSTART;TZID=America/Chicago:20260418T110000
DTEND;TZID=America/Chicago:20260418T170000
DTSTAMP:20260421T161550
CREATED:20260312T224643Z
LAST-MODIFIED:20260312T224643Z
UID:24120-1776510000-1776531600@koreatownnews.com
SUMMARY:오스틴 한인회 어버이날 효 나눔 행사
DESCRIPTION:오스틴 한인회 어버이날 효 나눔 행사 \n  \n일시: 4월 18일(토)  오전 11:00 \n장소: 오스틴 문화회관 \n문의: 512-695-1481
URL:https://koreatownnews.com/event/%ec%98%a4%ec%8a%a4%ed%8b%b4-%ed%95%9c%ec%9d%b8%ed%9a%8c-%ec%96%b4%eb%b2%84%ec%9d%b4%eb%82%a0-%ed%9a%a8-%eb%82%98%eb%88%94-%ed%96%89%ec%82%ac/
END:VEVENT
BEGIN:VEVENT
DTSTART;TZID=America/Chicago:20260418T130000
DTEND;TZID=America/Chicago:20260418T150000
DTSTAMP:20260421T161550
CREATED:20260417T215626Z
LAST-MODIFIED:20260417T223635Z
UID:25234-1776517200-1776524400@koreatownnews.com
SUMMARY:H-MART K-FUN WEEKENDS
DESCRIPTION:H-MART K-FUN WEEKENDS \n일시 : 4월18일(토)  오후 1:00 ~ 오후3:00 \n장소: H-MART Dallas Harry Hines
URL:https://koreatownnews.com/event/h-mart-k-fun-weekends-5/
END:VEVENT
BEGIN:VEVENT
DTSTART;TZID=America/Chicago:20260422T173000
DTEND;TZID=America/Chicago:20260422T190000
DTSTAMP:20260421T161550
CREATED:20260409T232909Z
LAST-MODIFIED:20260409T232909Z
UID:24927-1776879000-1776884400@koreatownnews.com
SUMMARY:이옥선 ‘위안부’ 할머니 달라스 방문 10주년 기념 기림비 개막식
DESCRIPTION:이옥선 ‘위안부’ 할머니 달라스 방문 10주년 기념 기림비 개막식 \n  \n일시: 4월 22일(수)  오후 5:30 \n장소: Southern Methodist University \n문의: 214-886-8595
URL:https://koreatownnews.com/event/%ec%9d%b4%ec%98%a5%ec%84%a0-%ec%9c%84%ec%95%88%eb%b6%80-%ed%95%a0%eb%a8%b8%eb%8b%88-%eb%8b%ac%eb%9d%bc%ec%8a%a4-%eb%b0%a9%eb%ac%b8-10%ec%a3%bc%eb%85%84-%ea%b8%b0%eb%85%90-%ea%b8%b0/
END:VEVENT
BEGIN:VEVENT
DTSTART;TZID=America/Chicago:20260422T173000
DTEND;TZID=America/Chicago:20260422T190000
DTSTAMP:20260421T161550
CREATED:20260417T215738Z
LAST-MODIFIED:20260417T215738Z
UID:25238-1776879000-1776884400@koreatownnews.com
SUMMARY:이옥선 ‘위안부’ 할머니 달라스 방문 10주년 기념 기림비 개막식
DESCRIPTION:이옥선 ‘위안부’ 할머니 달라스 방문 10주년 기념 기림비 개막식 \n  \n일시: 4월 22일(수)  오후 5:30 \n장소: Southern Methodist University \n문의: 214-886-8595
URL:https://koreatownnews.com/event/%ec%9d%b4%ec%98%a5%ec%84%a0-%ec%9c%84%ec%95%88%eb%b6%80-%ed%95%a0%eb%a8%b8%eb%8b%88-%eb%8b%ac%eb%9d%bc%ec%8a%a4-%eb%b0%a9%eb%ac%b8-10%ec%a3%bc%eb%85%84-%ea%b8%b0%eb%85%90-%ea%b8%b0-2/
END:VEVENT
BEGIN:VEVENT
DTSTART;TZID=America/Chicago:20260502T170000
DTEND;TZID=America/Chicago:20260502T190000
DTSTAMP:20260421T161550
CREATED:20260408T221329Z
LAST-MODIFIED:20260408T221329Z
UID:24916-1777741200-1777748400@koreatownnews.com
SUMMARY:더 나눔 ‘장애인 장학금’ 수여식
DESCRIPTION:더 나눔 ‘장애인 장학금’ 수여식 \n  \n일 시 : 5월2일(토) 오후 6:00 \n장 소 : 영락장로교회 \n문 의: 972-620-6296
URL:https://koreatownnews.com/event/%eb%8d%94-%eb%82%98%eb%88%94-%ec%9e%a5%ec%95%a0%ec%9d%b8-%ec%9e%a5%ed%95%99%ea%b8%88-%ec%88%98%ec%97%ac%ec%8b%9d/
END:VEVENT
BEGIN:VEVENT
DTSTART;TZID=America/Chicago:20260504T130000
DTEND;TZID=America/Chicago:20260504T170000
DTSTAMP:20260421T161550
CREATED:20260417T215815Z
LAST-MODIFIED:20260417T215815Z
UID:25240-1777899600-1777914000@koreatownnews.com
SUMMARY:이승만 건국대통령 기면사업회 달라스 지회  제2회 후원 골프대회
DESCRIPTION:이승만 건국대통령 기면사업회 달라스 지회 \n제2회 후원 골프대회 \n  \n일시: 5월 4일(월)  오후 1:00 \n장소: 8718 Amen Corner\, Flower Mound TX \n문의: 940-536-9038
URL:https://koreatownnews.com/event/%ec%9d%b4%ec%8a%b9%eb%a7%8c-%ea%b1%b4%ea%b5%ad%eb%8c%80%ed%86%b5%eb%a0%b9-%ea%b8%b0%eb%a9%b4%ec%82%ac%ec%97%85%ed%9a%8c-%eb%8b%ac%eb%9d%bc%ec%8a%a4-%ec%a7%80%ed%9a%8c-%ec%a0%9c2%ed%9a%8c-%ed%9b%84/
END:VEVENT
BEGIN:VEVENT
DTSTART;TZID=America/Chicago:20260508T193000
DTEND;TZID=America/Chicago:20260508T213000
DTSTAMP:20260421T161550
CREATED:20260408T221448Z
LAST-MODIFIED:20260408T221448Z
UID:24920-1778268600-1778275800@koreatownnews.com
SUMMARY:제8회 사랑나눔 찬양 토크 콘서트
DESCRIPTION:제8회 사랑나눔 찬양 토크 콘서트 \n  \n일 시 : 5월8일(금) 오후 7:30 \n장 소 : 페어뷰교회
URL:https://koreatownnews.com/event/%ec%a0%9c8%ed%9a%8c-%ec%82%ac%eb%9e%91%eb%82%98%eb%88%94-%ec%b0%ac%ec%96%91-%ed%86%a0%ed%81%ac-%ec%bd%98%ec%84%9c%ed%8a%b8/
END:VEVENT
BEGIN:VEVENT
DTSTART;TZID=America/Chicago:20260516T100000
DTEND;TZID=America/Chicago:20260516T170000
DTSTAMP:20260421T161550
CREATED:20260417T215857Z
LAST-MODIFIED:20260417T215857Z
UID:25242-1778925600-1778950800@koreatownnews.com
SUMMARY:브리지원 무료 재정교실 세미나
DESCRIPTION:브리지원 무료 재정교실 세미나 \n  \n일시: 5월 16일(토)  오전 10:20 ~ 오전 11:30 \n장소: The View 건물 1층 \n문의: 469-460-1370
URL:https://koreatownnews.com/event/%eb%b8%8c%eb%a6%ac%ec%a7%80%ec%9b%90-%eb%ac%b4%eb%a3%8c-%ec%9e%ac%ec%a0%95%ea%b5%90%ec%8b%a4-%ec%84%b8%eb%af%b8%eb%82%98-4/
END:VEVENT
END:VCALENDAR