BEGIN:VCALENDAR
VERSION:2.0
PRODID:-//KTN 코리아 타운 뉴스 - ECPv6.15.20//NONSGML v1.0//EN
CALSCALE:GREGORIAN
METHOD:PUBLISH
X-WR-CALNAME:KTN 코리아 타운 뉴스
X-ORIGINAL-URL:https://koreatownnews.com
X-WR-CALDESC:KTN 코리아 타운 뉴스 이벤트
REFRESH-INTERVAL;VALUE=DURATION:PT1H
X-Robots-Tag:noindex
X-PUBLISHED-TTL:PT1H
BEGIN:VTIMEZONE
TZID:America/Chicago
BEGIN:DAYLIGHT
TZOFFSETFROM:-0600
TZOFFSETTO:-0500
TZNAME:CDT
DTSTART:20250309T080000
END:DAYLIGHT
BEGIN:STANDARD
TZOFFSETFROM:-0500
TZOFFSETTO:-0600
TZNAME:CST
DTSTART:20251102T070000
END:STANDARD
BEGIN:DAYLIGHT
TZOFFSETFROM:-0600
TZOFFSETTO:-0500
TZNAME:CDT
DTSTART:20260308T080000
END:DAYLIGHT
BEGIN:STANDARD
TZOFFSETFROM:-0500
TZOFFSETTO:-0600
TZNAME:CST
DTSTART:20261101T070000
END:STANDARD
BEGIN:DAYLIGHT
TZOFFSETFROM:-0600
TZOFFSETTO:-0500
TZNAME:CDT
DTSTART:20270314T080000
END:DAYLIGHT
BEGIN:STANDARD
TZOFFSETFROM:-0500
TZOFFSETTO:-0600
TZNAME:CST
DTSTART:20271107T070000
END:STANDARD
END:VTIMEZONE
BEGIN:VEVENT
DTSTART;TZID=America/Chicago:20260328T080000
DTEND;TZID=America/Chicago:20260328T170000
DTSTAMP:20260421T174435
CREATED:20260326T230936Z
LAST-MODIFIED:20260326T230941Z
UID:24540-1774684800-1774717200@koreatownnews.com
SUMMARY:H-MART K-FUN WEEKENDS
DESCRIPTION:H-MART K-FUN WEEKENDS \n일시: 3월28일(토) 오후 1:00 ~ 3:00 \n장소: H-MART DALLAS
URL:https://koreatownnews.com/event/h-mart-k-fun-weekends-3/
END:VEVENT
BEGIN:VEVENT
DTSTART;TZID=America/Chicago:20260327T100000
DTEND;TZID=America/Chicago:20260327T170000
DTSTAMP:20260421T174435
CREATED:20260326T231024Z
LAST-MODIFIED:20260326T231028Z
UID:24542-1774605600-1774630800@koreatownnews.com
SUMMARY:이승만 건국대통령 탄신 151주년 기념예식
DESCRIPTION:이승만 건국대통령 탄신 151주년 기념예식 \n일시: 3월27일(금) 오전 10:00 \n장소: City of Coppel\, Cozby Library Meetng Room AB \n문의: 972-304-3658
URL:https://koreatownnews.com/event/%ec%9d%b4%ec%8a%b9%eb%a7%8c-%ea%b1%b4%ea%b5%ad%eb%8c%80%ed%86%b5%eb%a0%b9-%ed%83%84%ec%8b%a0-151%ec%a3%bc%eb%85%84-%ea%b8%b0%eb%85%90%ec%98%88%ec%8b%9d-2/
END:VEVENT
BEGIN:VEVENT
DTSTART;TZID=America/Chicago:20260326T080000
DTEND;TZID=America/Chicago:20260419T170000
DTSTAMP:20260421T174435
CREATED:20260326T230740Z
LAST-MODIFIED:20260326T230751Z
UID:24536-1774512000-1776618000@koreatownnews.com
SUMMARY:더 나눔 ‘장애인 장학금’
DESCRIPTION:더 나눔 ‘장애인 장학금’ \n  \n대 상 : 장애학생 \n  \n신청 기간: 4월 19일(일) 까지 \n  \n신 청: dkfoundationtx.org에서 신청서를 다운받아 우편 ( P.O Box 59975 Dallas\, TX 75229) 혹은 이메일 ( info@ dkfoundationtx.org) 로 접수 \n  \n문 의: 972-620-6296
URL:https://koreatownnews.com/event/%eb%8d%94-%eb%82%98%eb%88%94-%ec%9e%a5%ec%95%a0%ec%9d%b8-%ec%9e%a5%ed%95%99%ea%b8%88/
END:VEVENT
BEGIN:VEVENT
DTSTART;TZID=America/Chicago:20260322T130000
DTEND;TZID=America/Chicago:20260322T150000
DTSTAMP:20260421T174435
CREATED:20260322T033622Z
LAST-MODIFIED:20260322T033622Z
UID:24475-1774184400-1774191600@koreatownnews.com
SUMMARY:H-MART K-FUN WEEKENDS
DESCRIPTION:H-MART K-FUN WEEKENDS \n일시: 3월22일(일) 오후 1:00 ~ 3:00 \n장소: H-MART DALLAS
URL:https://koreatownnews.com/event/h-mart-k-fun-weekends-2/
END:VEVENT
BEGIN:VEVENT
DTSTART;TZID=America/Chicago:20260321T110000
DTEND;TZID=America/Chicago:20260321T170000
DTSTAMP:20260421T174435
CREATED:20260312T224602Z
LAST-MODIFIED:20260312T224609Z
UID:24118-1774090800-1774112400@koreatownnews.com
SUMMARY:달라스 한국 송죽회 3월 월례회
DESCRIPTION:달라스 한국 송죽회 3월 월례회 \n  \n(구) 달라스 한국 노인회 \n일시: 3월 21일(토)  오전 11:00 \n장소: 달라스 한국 문화센터 아트홀 \n문의: 214-238-0292
URL:https://koreatownnews.com/event/%eb%8b%ac%eb%9d%bc%ec%8a%a4-%ed%95%9c%ea%b5%ad-%ec%86%a1%ec%a3%bd%ed%9a%8c-3%ec%9b%94-%ec%9b%94%eb%a1%80%ed%9a%8c/
END:VEVENT
BEGIN:VEVENT
DTSTART;TZID=America/Chicago:20260321T103000
DTEND;TZID=America/Chicago:20260321T233000
DTSTAMP:20260421T174435
CREATED:20260311T032357Z
LAST-MODIFIED:20260311T033305Z
UID:24078-1774089000-1774135800@koreatownnews.com
SUMMARY:브리지원 무료 재정교실 세미나
DESCRIPTION:브리지원 무료 재정교실 세미나 \n  \n일시: 3월 21일(토)  오전 10:30 ~ 오전 11:30 \n장소: The View Carrollton (1층) \n문의: 678-997-7450
URL:https://koreatownnews.com/event/%eb%b8%8c%eb%a6%ac%ec%a7%80%ec%9b%90-%eb%ac%b4%eb%a3%8c-%ec%9e%ac%ec%a0%95%ea%b5%90%ec%8b%a4-%ec%84%b8%eb%af%b8%eb%82%98-2/
END:VEVENT
BEGIN:VEVENT
DTSTART;TZID=America/Chicago:20260321T080000
DTEND;TZID=America/Chicago:20260321T170000
DTSTAMP:20260421T174435
CREATED:20260322T033721Z
LAST-MODIFIED:20260322T033721Z
UID:24477-1774080000-1774112400@koreatownnews.com
SUMMARY:이승만 건국대통령 탄신 151주년 기념예식
DESCRIPTION:이승만 건국대통령 탄신 151주년 기념예식 \n  \n일시: 3월27일(금) 오전 10:00 \n장소: City of Coppel\, Cozby Library Meetng Room AB \n문의: 972-304-3658
URL:https://koreatownnews.com/event/%ec%9d%b4%ec%8a%b9%eb%a7%8c-%ea%b1%b4%ea%b5%ad%eb%8c%80%ed%86%b5%eb%a0%b9-%ed%83%84%ec%8b%a0-151%ec%a3%bc%eb%85%84-%ea%b8%b0%eb%85%90%ec%98%88%ec%8b%9d/
END:VEVENT
BEGIN:VEVENT
DTSTART;TZID=America/Chicago:20260318T100000
DTEND;TZID=America/Chicago:20260318T170000
DTSTAMP:20260421T174435
CREATED:20260311T032529Z
LAST-MODIFIED:20260311T032529Z
UID:24080-1773828000-1773853200@koreatownnews.com
SUMMARY:주휴스턴총영사관 순회영사(오스틴) 활동 안내
DESCRIPTION:주휴스턴총영사관 순회영사(오스틴) 활동 안내 \n  \n일시: 3월 18일(수)  오전 10:00 ~ 오후 5:00 \n예약: 2월 17일(화) ~ 3월 13일(금) \n장소: 오스틴 문화회관 \n문의: 512-695-1481
URL:https://koreatownnews.com/event/%ec%a3%bc%ed%9c%b4%ec%8a%a4%ed%84%b4%ec%b4%9d%ec%98%81%ec%82%ac%ea%b4%80-%ec%88%9c%ed%9a%8c%ec%98%81%ec%82%ac%ec%98%a4%ec%8a%a4%ed%8b%b4-%ed%99%9c%eb%8f%99-%ec%95%88%eb%82%b4/
END:VEVENT
BEGIN:VEVENT
DTSTART;TZID=America/Chicago:20260314T150000
DTEND;TZID=America/Chicago:20260314T170000
DTSTAMP:20260421T174435
CREATED:20260312T224440Z
LAST-MODIFIED:20260312T224440Z
UID:24114-1773500400-1773507600@koreatownnews.com
SUMMARY:미주현직한인회장협의회  제5기 정기총회 및 이·취임식
DESCRIPTION:미주현직한인회장협의회 \n제5기 정기총회 및 이·취임식 \n  \n일시: [임시총회] 3월 14일(토)  오후 3:00 \n[이·취임식] 3월 14일(토)  오후 5:00 \n장소: Element Hotel DFW North \n문의: 512-945-7286
URL:https://koreatownnews.com/event/%eb%af%b8%ec%a3%bc%ed%98%84%ec%a7%81%ed%95%9c%ec%9d%b8%ed%9a%8c%ec%9e%a5%ed%98%91%ec%9d%98%ed%9a%8c-%ec%a0%9c5%ea%b8%b0-%ec%a0%95%ea%b8%b0%ec%b4%9d%ed%9a%8c-%eb%b0%8f-%ec%9d%b4%c2%b7%ec%b7%a8/
END:VEVENT
BEGIN:VEVENT
DTSTART;TZID=America/Chicago:20260314T130000
DTEND;TZID=America/Chicago:20260314T150000
DTSTAMP:20260421T174435
CREATED:20260310T224741Z
LAST-MODIFIED:20260310T224741Z
UID:24071-1773493200-1773500400@koreatownnews.com
SUMMARY:H-MART K-FUN WEEKENDS
DESCRIPTION:H-MART K-FUN WEEKENDS \n일시: 3월14일(토)  오후 1:00 ~ 오후3:00 \n장소: H-MART Dallas Harry Hines
URL:https://koreatownnews.com/event/h-mart-k-fun-weekends/
END:VEVENT
BEGIN:VEVENT
DTSTART;VALUE=DATE:20260314
DTEND;VALUE=DATE:20260315
DTSTAMP:20260421T174435
CREATED:20260312T224521Z
LAST-MODIFIED:20260312T224521Z
UID:24116-1773446400-1773532799@koreatownnews.com
SUMMARY:미주현직한인회장협의회 의장배  2026 GOLF OUTING  최경주 프로와 라운딩
DESCRIPTION:미주현직한인회장협의회 의장배 \n2026 GOLF OUTING  최경주 프로와 라운딩 \n  \n일시:  3월 14일(토) \n장소: Bear Creek Golf Club\, West Course \n문의: 502-797-6839
URL:https://koreatownnews.com/event/%eb%af%b8%ec%a3%bc%ed%98%84%ec%a7%81%ed%95%9c%ec%9d%b8%ed%9a%8c%ec%9e%a5%ed%98%91%ec%9d%98%ed%9a%8c-%ec%9d%98%ec%9e%a5%eb%b0%b0-2026-golf-outing-%ec%b5%9c%ea%b2%bd%ec%a3%bc-%ed%94%84%eb%a1%9c/
END:VEVENT
BEGIN:VEVENT
DTSTART;TZID=America/Chicago:20260313T180000
DTEND;TZID=America/Chicago:20260313T200000
DTSTAMP:20260421T174435
CREATED:20260310T230405Z
LAST-MODIFIED:20260311T033348Z
UID:24076-1773424800-1773432000@koreatownnews.com
SUMMARY:제3회 달라스 전미주 장애인 체전 후원의 밤
DESCRIPTION:제3회 달라스 전미주 장애인 체전 후원의 밤 \n일시: 3월 13일(금)  오후 6:00 \n장소: 시온마켓 2층 아레나 엔터테이먼트홀 \n문의: 972-955-1848
URL:https://koreatownnews.com/event/%ec%a0%9c3%ed%9a%8c-%eb%8b%ac%eb%9d%bc%ec%8a%a4-%ec%a0%84%eb%af%b8%ec%a3%bc-%ec%9e%a5%ec%95%a0%ec%9d%b8-%ec%b2%b4%ec%a0%84-%ed%9b%84%ec%9b%90%ec%9d%98-%eb%b0%a4/
END:VEVENT
BEGIN:VEVENT
DTSTART;TZID=America/Chicago:20260312T080000
DTEND;TZID=America/Chicago:20260331T170000
DTSTAMP:20260421T174435
CREATED:20260312T223752Z
LAST-MODIFIED:20260312T224330Z
UID:24112-1773302400-1774976400@koreatownnews.com
SUMMARY:더 나눔 ‘사랑 나눔’ 성금 신청
DESCRIPTION:더 나눔 ‘사랑 나눔’ 성금 신청 \n  \n대 상 : 어려운 형편에 재정적 도움이 필요한 한인 누구나 (대리 신청 가능) \n거주 지역: 텍사스 \n신 청: dkfoundationtx.org에서 신청서를 다운받아 우편 ( P.O Box 59975 Dallas\, TX 75229) 혹은 이메일 ( info@ dkfoundationtx.org) 로 접수 \n문 의: 972-620-6296
URL:https://koreatownnews.com/event/%eb%8d%94-%eb%82%98%eb%88%94-%ec%82%ac%eb%9e%91-%eb%82%98%eb%88%94-%ec%84%b1%ea%b8%88-%ec%8b%a0%ec%b2%ad/
END:VEVENT
BEGIN:VEVENT
DTSTART;TZID=America/Chicago:20260309T173000
DTEND;TZID=America/Chicago:20260309T200000
DTSTAMP:20260421T174435
CREATED:20260311T032731Z
LAST-MODIFIED:20260311T032731Z
UID:24084-1773077400-1773086400@koreatownnews.com
SUMMARY:캐롤턴 시장 및 시의원 포럼
DESCRIPTION:캐롤턴 시장 및 시의원 포럼 \n  \n일시: 3월 9일(월)  오후 5:30 ~ 오후 8:00 \n장소: The View Carrollton \n문의: 469-970-3133 (한미연합회)
URL:https://koreatownnews.com/event/%ec%ba%90%eb%a1%a4%ed%84%b4-%ec%8b%9c%ec%9e%a5-%eb%b0%8f-%ec%8b%9c%ec%9d%98%ec%9b%90-%ed%8f%ac%eb%9f%bc/
END:VEVENT
BEGIN:VEVENT
DTSTART;TZID=America/Chicago:20260305T080000
DTEND;TZID=America/Chicago:20260308T170000
DTSTAMP:20260421T174435
CREATED:20260310T225156Z
LAST-MODIFIED:20260310T225156Z
UID:24074-1772697600-1772989200@koreatownnews.com
SUMMARY:515차 미주 두란노 어머니학교 달라스11기
DESCRIPTION:515차 미주 두란노 어머니학교 달라스11기 \n일시: 3월 5일(목)  ~ 3월8일(일)  오후 5:00 ~ 오후 9:30 \n장소: 십자가 복음교회 \n문의: 469-744-5957
URL:https://koreatownnews.com/event/515%ec%b0%a8-%eb%af%b8%ec%a3%bc-%eb%91%90%eb%9e%80%eb%85%b8-%ec%96%b4%eb%a8%b8%eb%8b%88%ed%95%99%ea%b5%90-%eb%8b%ac%eb%9d%bc%ec%8a%a411%ea%b8%b0/
END:VEVENT
BEGIN:VEVENT
DTSTART;VALUE=DATE:20260303
DTEND;VALUE=DATE:20260330
DTSTAMP:20260421T174435
CREATED:20260303T224222Z
LAST-MODIFIED:20260310T224956Z
UID:24068-1772496000-1774828799@koreatownnews.com
SUMMARY:더 키움 ‘김원영 변호사 청소년 리더십 장학생’ 모집
DESCRIPTION:대 상 : DFW 지역 거주 청소년 ( 8학년 ~  11학년 재학생) \n모집 기간: 3월3일(화) ~ 3월29일(일) \n신 청: dkfoundationtx.org에서 지원서를 다운받아 우편 ( P.O Box 59975 Dallas\, TX 75229) 혹은 이메일 ( info@ dkfoundationtx.org) 로 접수 \n문 의: 972-620-6296
URL:https://koreatownnews.com/event/%eb%8d%94-%ed%82%a4%ec%9b%80-%ea%b9%80%ec%9b%90%ec%98%81-%eb%b3%80%ed%98%b8%ec%82%ac-%ec%b2%ad%ec%86%8c%eb%85%84-%eb%a6%ac%eb%8d%94%ec%8b%ad-%ec%9e%a5%ed%95%99%ec%83%9d-%eb%aa%a8/
END:VEVENT
BEGIN:VEVENT
DTSTART;TZID=America/Chicago:20260228T130000
DTEND;TZID=America/Chicago:20260228T170000
DTSTAMP:20260421T174435
CREATED:20260218T201208Z
LAST-MODIFIED:20260218T201208Z
UID:23317-1772283600-1772298000@koreatownnews.com
SUMMARY:달라스 볼링협회장배 및  장애인체전 후원모금 볼링대회
DESCRIPTION:일시: 2월 28일(토) 오후 1:00\n장소: Lakes Lanes Bowling Alley\n문의: 469-231-5148 / 571-205-7087
URL:https://koreatownnews.com/event/%eb%8b%ac%eb%9d%bc%ec%8a%a4-%eb%b3%bc%eb%a7%81%ed%98%91%ed%9a%8c%ec%9e%a5%eb%b0%b0-%eb%b0%8f-%ec%9e%a5%ec%95%a0%ec%9d%b8%ec%b2%b4%ec%a0%84-%ed%9b%84%ec%9b%90%eb%aa%a8%ea%b8%88-%eb%b3%bc%eb%a7%81/
END:VEVENT
BEGIN:VEVENT
DTSTART;TZID=America/Chicago:20260227T190000
DTEND;TZID=America/Chicago:20260301T170000
DTSTAMP:20260421T174435
CREATED:20260218T200635Z
LAST-MODIFIED:20260218T200635Z
UID:23314-1772218800-1772384400@koreatownnews.com
SUMMARY:달라스 심포니 오케스트라 Mussorgsky’s Pictures at an Exhibition
DESCRIPTION:일시: 2월 27일(금) ~ 3월1일(일)\n장소: Morton H. Meyerson Symphony Center\n예매: www.dallassymphony.org
URL:https://koreatownnews.com/event/%eb%8b%ac%eb%9d%bc%ec%8a%a4-%ec%8b%ac%ed%8f%ac%eb%8b%88-%ec%98%a4%ec%bc%80%ec%8a%a4%ed%8a%b8%eb%9d%bc-mussorgskys-pictures-at-an-exhibition/
END:VEVENT
BEGIN:VEVENT
DTSTART;TZID=America/Chicago:20260221T110000
DTEND;TZID=America/Chicago:20260221T130000
DTSTAMP:20260421T174435
CREATED:20260218T200335Z
LAST-MODIFIED:20260218T200422Z
UID:23310-1771671600-1771678800@koreatownnews.com
SUMMARY:달라스 한국 송죽회 (구) 달라스 한국 노인회 2월 월례회 및 구정잔치
DESCRIPTION:일시: 2월 21일(토) 오전 11:00\n장소: 달라스 한국 문화센터 아트홀
URL:https://koreatownnews.com/event/%eb%8b%ac%eb%9d%bc%ec%8a%a4-%ed%95%9c%ea%b5%ad-%ec%86%a1%ec%a3%bd%ed%9a%8c-%ea%b5%ac-%eb%8b%ac%eb%9d%bc%ec%8a%a4-%ed%95%9c%ea%b5%ad-%eb%85%b8%ec%9d%b8%ed%9a%8c-2%ec%9b%94-%ec%9b%94%eb%a1%80%ed%9a%8c/
END:VEVENT
BEGIN:VEVENT
DTSTART;TZID=America/Chicago:20260221T103000
DTEND;TZID=America/Chicago:20260221T113000
DTSTAMP:20260421T174435
CREATED:20260218T200515Z
LAST-MODIFIED:20260218T200515Z
UID:23312-1771669800-1771673400@koreatownnews.com
SUMMARY:브리지원 무료 재정교실 세미나
DESCRIPTION:일시: 2월 21일(토) 오전 10:30 ~ 오전 11:30\n장소: 브리지원 달라스 오피스 (The View 건물 1층)\n문의: 469-460-1370
URL:https://koreatownnews.com/event/%eb%b8%8c%eb%a6%ac%ec%a7%80%ec%9b%90-%eb%ac%b4%eb%a3%8c-%ec%9e%ac%ec%a0%95%ea%b5%90%ec%8b%a4-%ec%84%b8%eb%af%b8%eb%82%98/
END:VEVENT
BEGIN:VEVENT
DTSTART;TZID=America/Chicago:20260220T200000
DTEND;TZID=America/Chicago:20260220T223000
DTSTAMP:20260421T174435
CREATED:20260218T200248Z
LAST-MODIFIED:20260218T200248Z
UID:23308-1771617600-1771626600@koreatownnews.com
SUMMARY:변진섭 콘서트
DESCRIPTION:일시: 2월 20일(금) 오후 8:00\n장소: Charles W. Eisemann Center\n예매: eisemanncenter.com\n문의: 714-340-6756 / 254-659-0212
URL:https://koreatownnews.com/event/%eb%b3%80%ec%a7%84%ec%84%ad-%ec%bd%98%ec%84%9c%ed%8a%b8/
END:VEVENT
BEGIN:VEVENT
DTSTART;TZID=America/Chicago:20260219T173000
DTEND;TZID=America/Chicago:20260219T200000
DTSTAMP:20260421T174435
CREATED:20260218T200114Z
LAST-MODIFIED:20260218T200114Z
UID:23305-1771522200-1771531200@koreatownnews.com
SUMMARY:MIKE SONG FOR CITY COUNCIL CAMPAIGN KICKOFF
DESCRIPTION:일시: 2월 19일(목) 오후 5:30\n장소: Coyote Ridge Golf Club\n문의: MIKE-SONG.COM
URL:https://koreatownnews.com/event/mike-song-for-city-council-campaign-kickoff/
LOCATION:Coyote Ridge Golf Club
END:VEVENT
END:VCALENDAR