BEGIN:VCALENDAR
VERSION:2.0
PRODID:-//KTN 코리아 타운 뉴스 - ECPv6.15.20//NONSGML v1.0//EN
CALSCALE:GREGORIAN
METHOD:PUBLISH
X-WR-CALNAME:KTN 코리아 타운 뉴스
X-ORIGINAL-URL:https://koreatownnews.com
X-WR-CALDESC:KTN 코리아 타운 뉴스 이벤트
REFRESH-INTERVAL;VALUE=DURATION:PT1H
X-Robots-Tag:noindex
X-PUBLISHED-TTL:PT1H
BEGIN:VTIMEZONE
TZID:America/Chicago
BEGIN:DAYLIGHT
TZOFFSETFROM:-0600
TZOFFSETTO:-0500
TZNAME:CDT
DTSTART:20250309T080000
END:DAYLIGHT
BEGIN:STANDARD
TZOFFSETFROM:-0500
TZOFFSETTO:-0600
TZNAME:CST
DTSTART:20251102T070000
END:STANDARD
BEGIN:DAYLIGHT
TZOFFSETFROM:-0600
TZOFFSETTO:-0500
TZNAME:CDT
DTSTART:20260308T080000
END:DAYLIGHT
BEGIN:STANDARD
TZOFFSETFROM:-0500
TZOFFSETTO:-0600
TZNAME:CST
DTSTART:20261101T070000
END:STANDARD
BEGIN:DAYLIGHT
TZOFFSETFROM:-0600
TZOFFSETTO:-0500
TZNAME:CDT
DTSTART:20270314T080000
END:DAYLIGHT
BEGIN:STANDARD
TZOFFSETFROM:-0500
TZOFFSETTO:-0600
TZNAME:CST
DTSTART:20271107T070000
END:STANDARD
END:VTIMEZONE
BEGIN:VEVENT
DTSTART;TZID=America/Chicago:20260516T100000
DTEND;TZID=America/Chicago:20260516T170000
DTSTAMP:20260421T175552
CREATED:20260417T215857Z
LAST-MODIFIED:20260417T215857Z
UID:25242-1778925600-1778950800@koreatownnews.com
SUMMARY:브리지원 무료 재정교실 세미나
DESCRIPTION:브리지원 무료 재정교실 세미나 \n  \n일시: 5월 16일(토)  오전 10:20 ~ 오전 11:30 \n장소: The View 건물 1층 \n문의: 469-460-1370
URL:https://koreatownnews.com/event/%eb%b8%8c%eb%a6%ac%ec%a7%80%ec%9b%90-%eb%ac%b4%eb%a3%8c-%ec%9e%ac%ec%a0%95%ea%b5%90%ec%8b%a4-%ec%84%b8%eb%af%b8%eb%82%98-4/
END:VEVENT
END:VCALENDAR